BEGIN:VCALENDAR
VERSION:2.0
PRODID:-//ChamberMaster//Event Calendar 2.0//EN
METHOD:PUBLISH
X-PUBLISHED-TTL:P3D
REFRESH-INTERVAL:P3D
CALSCALE:GREGORIAN
BEGIN:VEVENT
DTSTART:20240420T230000Z
DTEND:20240421T040000Z
X-MICROSOFT-CDO-ALLDAYEVENT:FALSE
SUMMARY:Zoobilation Gala
DESCRIPTION:Walk the red carpet\, get nose-to-nose during an animal encounter\, and savor tropical food and indulgent cocktails while exploring Caribbean wildlife. A wild program featuring sloths\, flamingos\, toucans and more in a fundraising raffle to support the Zoo's Caribbean Cove remodeling. As the sun sets\, cut loose with live music and dancing under the stars.
X-ALT-DESC;FMTTYPE=text/html:Walk the red carpet\, get nose-to-nose during an animal encounter\, and savor tropical food and indulgent cocktails while exploring Caribbean wildlife. A wild program featuring sloths\, flamingos\, toucans and more in a fundraising raffle to support the Zoo&#39\;s Caribbean Cove remodeling. As the sun sets\, cut loose with live music and dancing under the stars.
LOCATION:Abilene Zoo 2070 Zoo Lane Abilene\, TX 79602
UID:e.3433.5222
SEQUENCE:3
DTSTAMP:20260421T102112Z
URL:https://business.growabilene.com/events/details/zoobilation-gala-04-20-2024-5222
END:VEVENT

END:VCALENDAR
