BEGIN:VCALENDAR
VERSION:2.0
PRODID:-//ChamberMaster//Event Calendar 2.0//EN
METHOD:PUBLISH
X-PUBLISHED-TTL:P3D
REFRESH-INTERVAL:P3D
CALSCALE:GREGORIAN
BEGIN:VEVENT
DTSTART:20231207T180000Z
DTEND:20231207T190000Z
X-MICROSOFT-CDO-ALLDAYEVENT:FALSE
SUMMARY:Your Workforce is Expanding to New Geographic Locations - Are Your HR Practices Keeping Up?
DESCRIPTION:Due to the increasing remote workforce\, organizations need to ensure their HR practices comply with county and state regulations. Having an employee in a new geographic location can significantly impact the payroll\, benefits\, compensation\, and general policies of your organization. There are a variety of factors to consider when expanding to   or allowing an employee to work from   a new location. Join us as we walk through these important considerations.
X-ALT-DESC;FMTTYPE=text/html:Due to the increasing remote workforce\, organizations need to ensure their HR practices comply with county and state regulations. Having an employee in a new geographic location can significantly impact the payroll\, benefits\, compensation\, and general policies of your organization. There are a variety of factors to consider when expanding to &ndash\; or allowing an employee to work from &ndash\; a new location. Join us as we walk through these important considerations.
LOCATION:Online Webinar
UID:e.3433.5151
SEQUENCE:3
DTSTAMP:20260421T181328Z
URL:https://business.growabilene.com/events/details/your-workforce-is-expanding-to-new-geographic-locations-are-your-hr-practices-keeping-up-5151
END:VEVENT

END:VCALENDAR
