BEGIN:VCALENDAR
VERSION:2.0
PRODID:-//ChamberMaster//Event Calendar 2.0//EN
METHOD:PUBLISH
X-PUBLISHED-TTL:P3D
REFRESH-INTERVAL:P3D
CALSCALE:GREGORIAN
BEGIN:VEVENT
DTSTART:20240621T230000Z
DTEND:20240622T000000Z
X-MICROSOFT-CDO-ALLDAYEVENT:FALSE
SUMMARY:Yoga on the Lawn hosted by HOTWORX Allen Ridge
DESCRIPTION:You're invited! To Our Yoga on the Lawn Event!\n\nUnwind and stretch with a FREE yoga class on the lawn at Allen Ridge! Led by Shanna Moody.\n\n\n\nhttps://chambermaster.blob.core.windows.net/userfiles/UserFiles/chambers/3433/File/HOTWORXARYogaEventFlyer.pdf
X-ALT-DESC;FMTTYPE=text/html:You&#39\;re invited! To Our Yoga on the Lawn Event!<br />\nUnwind and stretch with a FREE yoga class on the lawn at Allen Ridge! Led by Shanna Moody.<br />\n<br />\n<a href="https://chambermaster.blob.core.windows.net/userfiles/UserFiles/chambers/3433/File/HOTWORXARYogaEventFlyer.pdf">https://chambermaster.blob.core.windows.net/userfiles/UserFiles/chambers/3433/File/HOTWORXARYogaEventFlyer.pdf</a><br />\n<br />\n&nbsp\;
LOCATION:
UID:e.3433.5327
SEQUENCE:3
DTSTAMP:20260421T093231Z
URL:https://business.growabilene.com/events/details/yoga-on-the-lawn-hosted-by-hotworx-allen-ridge-5327
END:VEVENT

END:VCALENDAR
