BEGIN:VCALENDAR
VERSION:2.0
PRODID:-//ChamberMaster//Event Calendar 2.0//EN
METHOD:PUBLISH
X-PUBLISHED-TTL:P3D
REFRESH-INTERVAL:P3D
CALSCALE:GREGORIAN
BEGIN:VEVENT
DTSTART:20240730T140000Z
DTEND:20240730T190000Z
X-MICROSOFT-CDO-ALLDAYEVENT:FALSE
SUMMARY:World Day Against Trafficking in Persons Anti-Human Trafficking Summit
DESCRIPTION:Join us for this Human Trafficking Summit! A pivotal event bringing together national leaders\, experts\, and advocates dedicated to fighting human trafficking. This comprehensive summit aims to address the multifaceted challenges of human trafficking through knowledge-share and collaborative efforts. Lunch is provided for all attendees\, this is a free event\, registration is required for a head count for included lunch!
X-ALT-DESC;FMTTYPE=text/html:Join us for this Human Trafficking Summit! A pivotal event bringing together national leaders\, experts\, and advocates dedicated to fighting human trafficking. This comprehensive summit aims to address the multifaceted challenges of human trafficking through knowledge-share and collaborative efforts. Lunch is provided for all attendees\, this is a free event\, registration is required for a head count for included lunch!
LOCATION:Texas Tech University Health Sciences Center at Abilene
UID:e.3433.5349
SEQUENCE:3
DTSTAMP:20260421T041327Z
URL:https://business.growabilene.com/events/details/world-day-against-trafficking-in-persons-anti-human-trafficking-summit-5349
END:VEVENT

END:VCALENDAR
