BEGIN:VCALENDAR
VERSION:2.0
PRODID:-//ChamberMaster//Event Calendar 2.0//EN
METHOD:PUBLISH
X-PUBLISHED-TTL:P3D
REFRESH-INTERVAL:P3D
CALSCALE:GREGORIAN
BEGIN:VEVENT
DTSTART:20250202T000000Z
DTEND:20250202T030000Z
X-MICROSOFT-CDO-ALLDAYEVENT:FALSE
SUMMARY:Wonderland Ball 27th Annual Daddy Daughter Dance
DESCRIPTION:Wonderland Ball 27th Annual Daddy Daughter Dance Registration is not transferable. Now held at the Taylor County Coliseum. Chase the white rabbit and fall down the rabbit hole to find yourself at  the Taylor County Coliseum! Things become curiouser and curiouser at the Wonderland Ball 27th Annual Daddy Daughter Dance. Is it your un-birthday? Enjoy an opportunity to get a photo of Daddy and Daughter through the looking glass. The dance is open to girls ages 3 and up plus their dads or male role models. Please note\, EACH person must be registered to enter the dance. Any cancelations must be made 14 days prior to the event start date. Details   Day: Saturday   Date: February 1\, 2025   Time: 6:00 PM   9:00 PM   Location: Taylor County Coliseum   Address: 1700 TX-36\, Abilene\, TX 79602   Age Restriction: Girls Ages 3+   Cost: $15 per ticket in advance or $20 per ticket at the door   Doors Open: 6:00 PM   Snacks and Refreshments will be served throughout the evening   Theme: Wonderland Ball   More Info: (325) 676-6217 Attire is completely up to YOU! Some like to dress to the theme\, others like to dress fancy. The party will be decorated to match the Wonderland Ball theme. Questions? Give us a call at the Parks & Recreation Administration office or message us on social media. Registration   Registration opens on December 18th.   Registration is not transferable.   To register and purchase your tickets\, copy and paste the link below into your browser: https://anc.apm.activecommunities.com/myabileneparksandrec/activity/search/detail/999?onlineSiteId=0&from_original_cui=true How to Register   To visit our registration website\, copy and paste the link below into your browser: https://anc.apm.activecommunities.com/myabileneparksandrec/activity/search/detail/999?onlineSiteId=0&from_original_cui=true   Once registration is open\, you can add the 2025 Daddy Daughter Dance activity to your cart.   Before you can continue to check out\, you'll either need to log in or create a new account.   To create a new account\, all you need to do is fill out the necessary information. Once your account has been created\, you can log in to continue to the shopping cart.   In the enrollment process\, you select the participant (most likely yourself) that will be attending the event\, fill out any additional information\, and right before you proceed to shopping cart\, you select Register Another Participant for this Activity (likely your daughter) to register anyone else that may be attending the Daddy Daughter Dance. Continue this process until the appropriate number of tickets are purchased.   Once everyone is enrolled\, you may proceed to your shopping cart and checkout to complete your registration for the Daddy Daughter Dance.
X-ALT-DESC;FMTTYPE=text/html:Wonderland Ball 27th Annual Daddy Daughter Dance Registration is not transferable. Now held at the Taylor County Coliseum. Chase the white rabbit and fall down the rabbit hole to find yourself at&hellip\; the Taylor County Coliseum! Things become curiouser and curiouser at the Wonderland Ball 27th Annual Daddy Daughter Dance. Is it your un-birthday? Enjoy an opportunity to get a photo of Daddy and Daughter through the looking glass. The dance is open to girls ages 3 and up plus their dads or male role models. Please note\, EACH person must be registered to enter the dance. Any cancelations must be made 14 days prior to the event start date. Details &bull\; Day: Saturday &bull\; Date: February 1\, 2025 &bull\; Time: 6:00 PM &mdash\; 9:00 PM &bull\; Location: Taylor County Coliseum &bull\; Address: 1700 TX-36\, Abilene\, TX 79602 &bull\; Age Restriction: Girls Ages 3+ &bull\; Cost: $15 per ticket in advance or $20 per ticket at the door &bull\; Doors Open: 6:00 PM &bull\; Snacks and Refreshments will be served throughout the evening &bull\; Theme: Wonderland Ball &bull\; More Info: (325) 676-6217 Attire is completely up to YOU! Some like to dress to the theme\, others like to dress fancy. The party will be decorated to match the Wonderland Ball theme. Questions? Give us a call at the Parks &amp\; Recreation Administration office or message us on social media. Registration &bull\; Registration opens on December 18th. &bull\; Registration is not transferable. &bull\; To register and purchase your tickets\, copy and paste the link below into your browser: https://anc.apm.activecommunities.com/myabileneparksandrec/activity/search/detail/999?onlineSiteId=0&amp\;from_original_cui=true How to Register &bull\; To visit our registration website\, copy and paste the link below into your browser: https://anc.apm.activecommunities.com/myabileneparksandrec/activity/search/detail/999?onlineSiteId=0&amp\;from_original_cui=true &bull\; Once registration is open\, you can add the 2025 Daddy Daughter Dance activity to your cart. &bull\; Before you can continue to check out\, you&rsquo\;ll either need to log in or create a new account. &bull\; To create a new account\, all you need to do is fill out the necessary information. Once your account has been created\, you can log in to continue to the shopping cart. &bull\; In the enrollment process\, you select the participant (most likely yourself) that will be attending the event\, fill out any additional information\, and right before you proceed to shopping cart\, you select Register Another Participant for this Activity (likely your daughter) to register anyone else that may be attending the Daddy Daughter Dance. Continue this process until the appropriate number of tickets are purchased. &bull\; Once everyone is enrolled\, you may proceed to your shopping cart and checkout to complete your registration for the Daddy Daughter Dance.
LOCATION:Now held at the Taylor County Coliseum. Location: Taylor County Coliseum Address: 1700 TX-36\, Abilene\, TX 79602
UID:e.3433.5520
SEQUENCE:3
DTSTAMP:20260421T194435Z
URL:https://business.growabilene.com/events/details/wonderland-ball-27th-annual-daddy-daughter-dance-5520
END:VEVENT

END:VCALENDAR
