BEGIN:VCALENDAR
VERSION:2.0
PRODID:-//ChamberMaster//Event Calendar 2.0//EN
METHOD:PUBLISH
X-PUBLISHED-TTL:P3D
REFRESH-INTERVAL:P3D
CALSCALE:GREGORIAN
BEGIN:VEVENT
DTSTART:20240214T170000Z
DTEND:20240214T180000Z
X-MICROSOFT-CDO-ALLDAYEVENT:FALSE
SUMMARY:Webinar: Boost Your Money Management Skills for Your Small Business Part 1
DESCRIPTION:Whether you're starting a new business or already managing one\, it's important to understand how to manage your business finances. Having good money management skills will help increase your business's opportunity for success. In Part 1 of this series we will show you how to separate business and personal finances\, and track your business finances. Part 2 will help you understand cash flow and profit & loss. Plus\, you'll learn about money management mistakes to avoid.
X-ALT-DESC;FMTTYPE=text/html:Whether you&#39\;re starting a new business or already managing one\, it&rsquo\;s important to understand how to manage your business finances. Having good money management skills will help increase your business&rsquo\;s opportunity for success. In Part 1 of this series we will show you how to separate business and personal finances\, and track your business finances. Part 2 will help you understand cash flow and profit &amp\; loss. Plus\, you&#39\;ll learn about money management mistakes to avoid.
LOCATION:749 Gateway St.\, Ste. 301\, Blg. C Abilene\, TX 79602
UID:e.3433.5223
SEQUENCE:3
DTSTAMP:20260421T164105Z
URL:https://business.growabilene.com/events/details/webinar-boost-your-money-management-skills-for-your-small-business-part-1-5223
END:VEVENT

END:VCALENDAR
