BEGIN:VCALENDAR
VERSION:2.0
PRODID:-//ChamberMaster//Event Calendar 2.0//EN
METHOD:PUBLISH
X-PUBLISHED-TTL:P3D
REFRESH-INTERVAL:P3D
CALSCALE:GREGORIAN
BEGIN:VEVENT
DTSTART:20240509T210000Z
DTEND:20240510T010000Z
X-MICROSOFT-CDO-ALLDAYEVENT:FALSE
SUMMARY:venture19 Mom's & Mimosas
DESCRIPTION:Grab your girlfriends\, grab mom\, or have a mama's night out (dog mom's too)\, and come to Sip & Shop with venture19! We will have a mimosa bar + snacks & sweets\, 15% off regular-priced purchase\, first 20 customers who spend $50 receive a free tote\, make your own flower wrap w/ @evergreenfloraltx\, & a charm necklace station!\n\nThis will be such a fun event\, and we can't wait to see you all!
X-ALT-DESC;FMTTYPE=text/html:<div>Grab your girlfriends\, grab mom\, or have a mama&#39\;s night out (dog mom&#39\;s too)\, and come to Sip &amp\; Shop with venture19! We will have a mimosa bar + snacks &amp\; sweets\, 15% off regular-priced purchase\, first 20 customers who spend $50 receive a free tote\, make your own flower wrap w/ @evergreenfloraltx\, &amp\; a charm necklace station!</div>\n\n<div>This will be such a fun event\, and we can&#39\;t wait to see you all!</div>\n
LOCATION:6442 Buffalo Gap Rd.
UID:e.3433.5287
SEQUENCE:3
DTSTAMP:20260421T093743Z
URL:https://business.growabilene.com/events/details/venture19-mom-s-mimosas-5287
END:VEVENT

END:VCALENDAR
