BEGIN:VCALENDAR
VERSION:2.0
PRODID:-//ChamberMaster//Event Calendar 2.0//EN
METHOD:PUBLISH
X-PUBLISHED-TTL:P3D
REFRESH-INTERVAL:P3D
CALSCALE:GREGORIAN
BEGIN:VEVENT
DTSTART:20241114T220000Z
DTEND:20241115T020000Z
X-MICROSOFT-CDO-ALLDAYEVENT:FALSE
SUMMARY:venture19 Holly & Jolly Holiday Party
DESCRIPTION:Join us for our venture19 Holly & Jolly Holiday Party! Enjoy gift card giveaways\, festive drinks\, finger foods + purchases of $75 or more receive a free goodie bag of venture19 freebies (while supplies last).\n\nCome get your Christmas shopping done\, and have a festive & fun night out with venture19 on November 14th!
X-ALT-DESC;FMTTYPE=text/html:<div>Join us for our venture19 Holly &amp\; Jolly Holiday Party! Enjoy gift card giveaways\, festive drinks\, finger foods + purchases of $75 or more receive a free goodie bag of venture19 freebies (while supplies last).</div>\n\n<div>Come get your Christmas shopping done\, and have a festive &amp\; fun night out with venture19 on November 14th!</div>\n
LOCATION:6442 Buffalo Gap Rd. Abilene\, TX
UID:e.3433.5470
SEQUENCE:3
DTSTAMP:20260421T144534Z
URL:https://business.growabilene.com/events/details/venture19-holly-jolly-holiday-party-5470
END:VEVENT

END:VCALENDAR
