BEGIN:VCALENDAR
VERSION:2.0
PRODID:-//ChamberMaster//Event Calendar 2.0//EN
METHOD:PUBLISH
X-PUBLISHED-TTL:P3D
REFRESH-INTERVAL:P3D
CALSCALE:GREGORIAN
BEGIN:VEVENT
DTSTART:20240610T190000Z
DTEND:20240610T200000Z
X-MICROSOFT-CDO-ALLDAYEVENT:FALSE
SUMMARY:Unlocking Insights: Internal Audits — Navigating the Value and Contrasts with External Audits
DESCRIPTION:Event Overview Auditing is a critical practice for organizations seeking to ensure financial integrity and operational efficiency. This webinar will provide an in-depth exploration of the unique roles\, benefits\, and distinctions between internal and external audits\, empowering you to harness their full potential. We will equip you with a comprehensive understanding of both internal and external audits\, helping you leverage their distinct advantages to enhance your organization's governance\, risk management\, and compliance practices.
X-ALT-DESC;FMTTYPE=text/html:Event Overview Auditing is a critical practice for organizations seeking to ensure financial integrity and operational efficiency. This webinar will provide an in-depth exploration of the unique roles\, benefits\, and distinctions between internal and external audits\, empowering you to harness their full potential. We will equip you with a comprehensive understanding of both internal and external audits\, helping you leverage their distinct advantages to enhance your organization&#39\;s governance\, risk management\, and compliance practices.
LOCATION:Online webinar
UID:e.3433.5302
SEQUENCE:3
DTSTAMP:20260421T085312Z
URL:https://business.growabilene.com/events/details/unlocking-insights-internal-audits-navigating-the-value-and-contrasts-with-external-audits-5302
END:VEVENT

END:VCALENDAR
