BEGIN:VCALENDAR
VERSION:2.0
PRODID:-//ChamberMaster//Event Calendar 2.0//EN
METHOD:PUBLISH
X-PUBLISHED-TTL:P3D
REFRESH-INTERVAL:P3D
CALSCALE:GREGORIAN
BEGIN:VEVENT
DTSTART:20240111T180000Z
DTEND:20240111T190000Z
X-MICROSOFT-CDO-ALLDAYEVENT:FALSE
SUMMARY:Total Referral Mastery: Harnessing AI to Help You Get More Customers
DESCRIPTION:Exclusive No Cost Invitation for Abilene Chamber of Commerce Members\nJoin fellow chamber member Steve Black\, for this exclusive 2024 Kickoff meeting where you will learn how to use AI to:\n\n\n	Get more of the right customers\, the ones you truly want.\n	Form strategic alliances to promote and grow your business.\n	Get others to recommend your business.\n	Master the art of referrals to build business relationships that last.\n	Establish trust and connections with ease.\n\nAI has changed everything! \n\n\n\nWitness the LIVE DEMO that will show you in less than 60 minutes the AI TOOLS YOU NEED to grow your business.\n\nRegister Today!
X-ALT-DESC;FMTTYPE=text/html:<h2><strong>Exclusive No Cost Invitation</strong> for Abilene Chamber of Commerce Members</h2>\nJoin fellow chamber member Steve Black\, for this exclusive 2024 Kickoff meeting where you will learn how to use AI to:\n\n<ul>\n	<li><strong>Get more of the right customers</strong>\, the ones you truly want.</li>\n	<li>Form strategic alliances to promote and <strong>grow your business</strong>.</li>\n	<li>Get others to <strong>recommend your business</strong>.</li>\n	<li>Master the art of referrals to <strong>build business relationships that last</strong>.</li>\n	<li><strong>Establish trust and connections </strong>with ease.</li>\n</ul>\n<em><strong>AI has changed everything! </strong></em><br />\n<br />\nWitness the <strong>LIVE DEMO</strong> that will show you in less than 60 minutes the <strong>AI TOOLS YOU NEED</strong> to grow your business.\n\n<h2 style="font-style:italic"><span style="color:#0c3c55"><strong><em>Register Today!</em></strong></span></h2>\n
LOCATION:Abilene Woman's Club Foundation 3452 S. 14th St. Abilene\, TX 79605
UID:e.3433.5184
SEQUENCE:3
DTSTAMP:20260421T225744Z
URL:https://business.growabilene.com/events/details/total-referral-mastery-ai-5184
END:VEVENT

END:VCALENDAR
