BEGIN:VCALENDAR
VERSION:2.0
PRODID:-//ChamberMaster//Event Calendar 2.0//EN
METHOD:PUBLISH
X-PUBLISHED-TTL:P3D
REFRESH-INTERVAL:P3D
CALSCALE:GREGORIAN
BEGIN:VEVENT
DTSTART:20220903T160000Z
DTEND:20220903T200000Z
X-MICROSOFT-CDO-ALLDAYEVENT:FALSE
SUMMARY:Tiny Home Tours
DESCRIPTION:Lifespark Homes will be hosting an Open House on Saturday September 3rd 11:00 AM   3:00 PM. We will have two different Tiny Homes available for tour. We will have our Dakota Model 392 sq. ft.\, 1bed/1bath and our Micro Pod 160 sq. ft. efficiency tiny home. Everyone is invited to tour our tiny homes\, meet the owners and enjoy some refreshments and baked goods from McKay's Bakery
X-ALT-DESC;FMTTYPE=text/html:Lifespark Homes will be hosting an Open House on Saturday September 3rd 11:00 AM &ndash\; 3:00 PM. We will have two different Tiny Homes available for tour. We will have our Dakota Model 392 sq. ft.\, 1bed/1bath and our Micro Pod 160 sq. ft. efficiency tiny home. Everyone is invited to tour our tiny homes\, meet the owners and enjoy some refreshments and baked goods from McKay&rsquo\;s Bakery
LOCATION:101 N. Hays Rd. Clyde Texas
UID:e.3433.4795
SEQUENCE:3
DTSTAMP:20260423T024223Z
URL:https://business.growabilene.com/events/details/tiny-home-tours-4795
END:VEVENT

END:VCALENDAR
