BEGIN:VCALENDAR
VERSION:2.0
PRODID:-//ChamberMaster//Event Calendar 2.0//EN
METHOD:PUBLISH
X-PUBLISHED-TTL:P3D
REFRESH-INTERVAL:P3D
CALSCALE:GREGORIAN
BEGIN:VEVENT
DTSTART:20240508T170000Z
DTEND:20240508T180000Z
X-MICROSOFT-CDO-ALLDAYEVENT:FALSE
SUMMARY:The Need for Business Planning & Analysis in Your Finance Department
DESCRIPTION:Event Overview In ever-changing and uncertain market conditions\, it is essential for business leaders to arm themselves with reliable financial models and cash management plans. Smart business decisions rely on access to key information   from effective budgeting\, forecasting\, and variance analysis to performance monitoring and real-time financial reporting. Through an effective business planning and analysis practice\, you can set financial goals\, devise strategies\, and create budgets to effectively navigate resource allocation and cash flow management in an evolving landscape. Join our webinar as we outline how to fuel your organization with the right modeling and reporting strategies to achieve sustainable growth and long-term success. DATE AND TIME Wednesday\, May 8 | 12 - 1 p.m. CT LOCATION Online (Webinar) COST Free CONTACT webinars@eidebailly.com
X-ALT-DESC;FMTTYPE=text/html:Event Overview In ever-changing and uncertain market conditions\, it is essential for business leaders to arm themselves with reliable financial models and cash management plans. Smart business decisions rely on access to key information &mdash\; from effective budgeting\, forecasting\, and variance analysis to performance monitoring and real-time financial reporting. Through an effective business planning and analysis practice\, you can set financial goals\, devise strategies\, and create budgets to effectively navigate resource allocation and cash flow management in an evolving landscape. Join our webinar as we outline how to fuel your organization with the right modeling and reporting strategies to achieve sustainable growth and long-term success. DATE AND TIME Wednesday\, May 8 | 12 - 1 p.m. CT LOCATION Online (Webinar) COST Free CONTACT webinars@eidebailly.com
LOCATION:Online webinar
UID:e.3433.5284
SEQUENCE:3
DTSTAMP:20260421T094312Z
URL:https://business.growabilene.com/events/details/the-need-for-business-planning-analysis-in-your-finance-department-5284
END:VEVENT

END:VCALENDAR
