BEGIN:VCALENDAR
VERSION:2.0
PRODID:-//ChamberMaster//Event Calendar 2.0//EN
METHOD:PUBLISH
X-PUBLISHED-TTL:P3D
REFRESH-INTERVAL:P3D
CALSCALE:GREGORIAN
BEGIN:VEVENT
DTSTART:20240223T170000Z
DTEND:20240223T180000Z
X-MICROSOFT-CDO-ALLDAYEVENT:FALSE
SUMMARY:The Beauty Bus - 5 Year Anniversary Ribbon Cutting
DESCRIPTION:Join us as we celebrate the 5 Year Anniversary of The Beauty Bus with Dr. Trammell and her team!
X-ALT-DESC;FMTTYPE=text/html:Join us as we celebrate the 5 Year Anniversary of The Beauty Bus with Dr. Trammell and her team!&nbsp\;
LOCATION:642 Sayles Blvd Abilene\, TX 79605
UID:e.3433.5239
SEQUENCE:3
DTSTAMP:20260421T144605Z
URL:https://business.growabilene.com/events/details/the-beauty-bus-5-year-anniversary-ribbon-cutting-5239
END:VEVENT

END:VCALENDAR
