BEGIN:VCALENDAR
VERSION:2.0
PRODID:-//ChamberMaster//Event Calendar 2.0//EN
METHOD:PUBLISH
X-PUBLISHED-TTL:P3D
REFRESH-INTERVAL:P3D
CALSCALE:GREGORIAN
BEGIN:VEVENT
DTSTART:20220726T190000Z
DTEND:20220726T200000Z
X-MICROSOFT-CDO-ALLDAYEVENT:FALSE
SUMMARY:Summer Kids World
DESCRIPTION:Enjoy a free\, fun and educational summertime activity & presentation hosted by a special guest\, Premier Martial Arts! The event is free and children of all ages are welcome to attend. Located at Women's Dillard's Courtyard inside Mall of Abilene.
X-ALT-DESC;FMTTYPE=text/html:Enjoy a free\, fun and educational summertime activity &amp\; presentation hosted by a special guest\, Premier Martial Arts! The event is free and children of all ages are welcome to attend. Located at Women&#39\;s Dillard&#39\;s Courtyard inside Mall of Abilene.
LOCATION:Mall of Abilene
UID:e.3433.4752
SEQUENCE:3
DTSTAMP:20260423T060119Z
URL:https://business.growabilene.com/events/details/summer-kids-world-07-26-2022-4752
END:VEVENT

END:VCALENDAR
