BEGIN:VCALENDAR
VERSION:2.0
PRODID:-//ChamberMaster//Event Calendar 2.0//EN
METHOD:PUBLISH
X-PUBLISHED-TTL:P3D
REFRESH-INTERVAL:P3D
CALSCALE:GREGORIAN
BEGIN:VEVENT
DTSTART:20240613T170000Z
DTEND:20240613T180000Z
X-MICROSOFT-CDO-ALLDAYEVENT:FALSE
SUMMARY:Successful Planning for Year-End Starts Now
DESCRIPTION:Event Overview Planning for year-end can be overwhelming\, but ensuring it is done right is crucial to the success and growth of your organization. In this webinar\, we will discuss rules\, limits\, and valuable information to prepare you and your organization for year-end. We will also dive into the importance of compliance and strategic planning for reaching your year-end goals.
X-ALT-DESC;FMTTYPE=text/html:Event Overview Planning for year-end can be overwhelming\, but ensuring it is done right is crucial to the success and growth of your organization. In this webinar\, we will discuss rules\, limits\, and valuable information to prepare you and your organization for year-end. We will also dive into the importance of compliance and strategic planning for reaching your year-end goals.
LOCATION:Online webinar
UID:e.3433.5305
SEQUENCE:3
DTSTAMP:20260421T074411Z
URL:https://business.growabilene.com/events/details/successful-planning-for-year-end-starts-now-06-13-2024-5305
END:VEVENT

END:VCALENDAR
