BEGIN:VCALENDAR
VERSION:2.0
PRODID:-//ChamberMaster//Event Calendar 2.0//EN
METHOD:PUBLISH
X-PUBLISHED-TTL:P3D
REFRESH-INTERVAL:P3D
CALSCALE:GREGORIAN
BEGIN:VEVENT
DTSTART:20241115T010000Z
DTEND:20241115T030000Z
X-MICROSOFT-CDO-ALLDAYEVENT:FALSE
SUMMARY:Seniors - Thursday Night Dances
DESCRIPTION:Thursday Night Dances Line Up   November 7th: Outlaw Band   November 14th: Swing Machine   November 21st: Exit 277 Details   Day: Thursdays   Dates: November 7   November 21\, 2024   Time: 7:00 PM   9:00 PM   Location: Rose Park Senior Center   Address: 2625 S 7th St   Age Restriction: Ages 55+   Cost: $5 per person Call (325) 734-5300 or visit us online at www.abileneparksandrec.com to learn more.
X-ALT-DESC;FMTTYPE=text/html:Thursday Night Dances Line Up &bull\; November 7th: Outlaw Band &bull\; November 14th: Swing Machine &bull\; November 21st: Exit 277 Details &bull\; Day: Thursdays &bull\; Dates: November 7 &mdash\; November 21\, 2024 &bull\; Time: 7:00 PM &mdash\; 9:00 PM &bull\; Location: Rose Park Senior Center &bull\; Address: 2625 S 7th St &bull\; Age Restriction: Ages 55+ &bull\; Cost: $5 per person Call (325) 734-5300 or visit us online at www.abileneparksandrec.com to learn more.
LOCATION:Location: Rose Park Senior Center Address: 2625 S 7th St
UID:e.3433.5463
SEQUENCE:3
DTSTAMP:20260421T144319Z
URL:https://business.growabilene.com/events/details/seniors-thursday-night-dances-11-14-2024-5463
END:VEVENT

END:VCALENDAR
