BEGIN:VCALENDAR
VERSION:2.0
PRODID:-//ChamberMaster//Event Calendar 2.0//EN
METHOD:PUBLISH
X-PUBLISHED-TTL:P3D
REFRESH-INTERVAL:P3D
CALSCALE:GREGORIAN
BEGIN:VEVENT
DTSTART:20240221T043000Z
DTEND:20240221T053000Z
X-MICROSOFT-CDO-ALLDAYEVENT:FALSE
SUMMARY:SBA Advocacy CMMC Webinar
DESCRIPTION:Region 6 Advocate\, Janea Jamison will host a webinar to Introduce the Office of Advocacy and to discuss the U.S. Department of Defense (DOD) proposed rule for the Cybersecurity Maturity Model Certification (CMMC) program.\n\n \n\nThis program is designed to ensure defense contractors and subcontractors engage in appropriate handling of federal contract information and unclassified information so that it is not stolen in a cyber-attack.
X-ALT-DESC;FMTTYPE=text/html:<p style="box-sizing: border-box\; margin-top: 0px\; color: rgb(37\, 36\, 35)\; font-family: &quot\;Segoe UI&quot\;\, &quot\;Segoe UI Web (West European)&quot\;\, -apple-system\, BlinkMacSystemFont\, Roboto\, &quot\;Helvetica Neue&quot\;\, sans-serif\; font-size: 16px\;"><span style="font-size:12px\;">Region 6 Advocate\, Janea Jamison will host a webinar to Introduce the Office of Advocacy and to discuss t<span style="box-sizing: border-box\; color: rgb(34\, 34\, 34)\;">he U.S. Department of Defense (DOD) proposed rule for the Cybersecurity Maturity Model Certification (CMMC) program.</span></span></p>\n\n<p style="box-sizing: border-box\; color: rgb(37\, 36\, 35)\; font-family: &quot\;Segoe UI&quot\;\, &quot\;Segoe UI Web (West European)&quot\;\, -apple-system\, BlinkMacSystemFont\, Roboto\, &quot\;Helvetica Neue&quot\;\, sans-serif\; font-size: 16px\;">&nbsp\;</p>\n\n<p style="box-sizing: border-box\; color: rgb(37\, 36\, 35)\; font-family: &quot\;Segoe UI&quot\;\, &quot\;Segoe UI Web (West European)&quot\;\, -apple-system\, BlinkMacSystemFont\, Roboto\, &quot\;Helvetica Neue&quot\;\, sans-serif\; font-size: 16px\;"><span style="font-size:12px\;"><span style="box-sizing: border-box\; color: rgb(34\, 34\, 34)\;">This program is designed to ensure defense contractors and subcontractors engage in appropriate handling of federal contract information and unclassified information so that it is not stolen in a cyber-attack.&nbsp\;</span></span></p>\n
LOCATION:Online Event
UID:e.3433.5233
SEQUENCE:3
DTSTAMP:20260421T144144Z
URL:https://business.growabilene.com/events/details/sba-advocacy-cmmc-webinar-5233
END:VEVENT

END:VCALENDAR
