BEGIN:VCALENDAR
VERSION:2.0
PRODID:-//ChamberMaster//Event Calendar 2.0//EN
METHOD:PUBLISH
X-PUBLISHED-TTL:P3D
REFRESH-INTERVAL:P3D
CALSCALE:GREGORIAN
BEGIN:VEVENT
DTSTART:20191123T000000Z
DTEND:20191225T000000Z
X-MICROSOFT-CDO-ALLDAYEVENT:FALSE
SUMMARY:Santa's Arrival at Mall of Abilene
DESCRIPTION:Santa will arrive at Mall of Abilene for the 2019 Holiday season! Join us at the El Chico Cafe mall entrance to welcome him to his home at Woodland Friends. From there\, Santa will be available for photos and visits through Christmas Eve at Women's Dillard's Courtyard. Hours vary. Photos available for purchase from Cherry Hill Photo.
X-ALT-DESC;FMTTYPE=text/html:Santa will arrive at Mall of Abilene for the 2019 Holiday season! Join us at the El Chico Cafe mall entrance to welcome him to his home at Woodland Friends. From there\, Santa will be available for photos and visits through Christmas Eve at Women&#39\;s Dillard&#39\;s Courtyard. Hours vary. Photos available for purchase from Cherry Hill Photo.
LOCATION:Mall of Abilene - El Chico Cafe main mall entrance
UID:e.3433.3791
SEQUENCE:3
DTSTAMP:20260423T170246Z
URL:https://business.growabilene.com/events/details/santa-s-arrival-at-mall-of-abilene-3791
END:VEVENT

END:VCALENDAR
