BEGIN:VCALENDAR
VERSION:2.0
PRODID:-//ChamberMaster//Event Calendar 2.0//EN
METHOD:PUBLISH
X-PUBLISHED-TTL:P3D
REFRESH-INTERVAL:P3D
CALSCALE:GREGORIAN
BEGIN:VEVENT
DTSTART:20240722T160000Z
DTEND:20240722T223000Z
X-MICROSOFT-CDO-ALLDAYEVENT:FALSE
SUMMARY:Ribbon Cutting for Texas Star's 20th Anniversary
DESCRIPTION:Join us for refreshments and a ribbon cutting with the Abilene Chamber Redcoats to celebrate 20 years in business in downtown Abilene. PLUS\, spin the wheel ALL DAY to win gifts! No purchase necessary.
X-ALT-DESC;FMTTYPE=text/html:Join us for refreshments and a ribbon cutting with the Abilene Chamber Redcoats to celebrate 20 years in business in downtown Abilene. PLUS\, spin the wheel ALL DAY to win gifts! No purchase necessary.
LOCATION:Texas Star Trading Co.\, 174 Cypress St.\, Abilene\, TX 79601
UID:e.3433.5343
SEQUENCE:3
DTSTAMP:20260421T041125Z
URL:https://business.growabilene.com/events/details/ribbon-cutting-for-texas-star-s-20th-anniversary-5343
END:VEVENT

END:VCALENDAR
