BEGIN:VCALENDAR
VERSION:2.0
PRODID:-//ChamberMaster//Event Calendar 2.0//EN
METHOD:PUBLISH
X-PUBLISHED-TTL:P3D
REFRESH-INTERVAL:P3D
CALSCALE:GREGORIAN
BEGIN:VEVENT
DTSTART:20190607T170000Z
DTEND:20190607T170000Z
X-MICROSOFT-CDO-ALLDAYEVENT:FALSE
SUMMARY:Relocation & Ribbon Cutting - C. M. Company Auctions
DESCRIPTION:
X-ALT-DESC;FMTTYPE=text/html:
LOCATION:Enterprise Building 500 Chestnut St\, Ste. 103
UID:e.3433.3733
SEQUENCE:3
DTSTAMP:20260426T024306Z
URL:https://business.growabilene.com/events/details/relocation-ribbon-cutting-c-m-company-auctions-3733
END:VEVENT

END:VCALENDAR
