BEGIN:VCALENDAR
VERSION:2.0
PRODID:-//ChamberMaster//Event Calendar 2.0//EN
METHOD:PUBLISH
X-PUBLISHED-TTL:P3D
REFRESH-INTERVAL:P3D
CALSCALE:GREGORIAN
BEGIN:VEVENT
DTSTART:20230421T180000Z
DTEND:20230421T190000Z
X-MICROSOFT-CDO-ALLDAYEVENT:FALSE
SUMMARY:Relocation/New Chamber Member Ribbon Cutting - Glamour Eyes and More
DESCRIPTION:Join us as we celebrate the new location of Glamour Eyes and More! Stop by\, say hi and meet their team!
X-ALT-DESC;FMTTYPE=text/html:Join us as we celebrate the new location of Glamour Eyes and More! Stop by\, say hi and meet their team!
LOCATION:201 Walnut Street Abilene\, TX 79603
UID:e.3433.4945
SEQUENCE:3
DTSTAMP:20260422T160028Z
URL:https://business.growabilene.com/events/details/relocation-new-chamber-member-ribbon-cutting-glamour-eyes-and-more-4945
END:VEVENT

END:VCALENDAR
