BEGIN:VCALENDAR
VERSION:2.0
PRODID:-//ChamberMaster//Event Calendar 2.0//EN
METHOD:PUBLISH
X-PUBLISHED-TTL:P3D
REFRESH-INTERVAL:P3D
CALSCALE:GREGORIAN
BEGIN:VEVENT
DTSTART:20240926T223000Z
DTEND:20240926T233000Z
X-MICROSOFT-CDO-ALLDAYEVENT:FALSE
SUMMARY:Real Property/Lease Considerations for Small Businesses
DESCRIPTION:Navigating real estate and lease agreements can be one of the most critical steps for any small business. Whether you're starting a new venture or expanding your current business\, securing the right property and understanding lease agreements can directly impact your success. Our upcoming workshop\, Real Property & Lease Considerations for Small Businesses\, will dive into everything you need to know about selecting the best property for your business and negotiating favorable lease terms. What You'll Learn: - Key factors to consider when selecting a commercial property. - How to evaluate lease agreements\, including rent\, maintenance\, and term options. - The pros and cons of leasing vs. buying real estate for your business. - Legal considerations and tips to protect your business interests. This workshop is designed to provide small business owners with practical insights to make informed real estate decisions and set the foundation for long-term success. Don't miss this opportunity to gain valuable knowledge and expert advice!
X-ALT-DESC;FMTTYPE=text/html:Navigating real estate and lease agreements can be one of the most critical steps for any small business. Whether you&#39\;re starting a new venture or expanding your current business\, securing the right property and understanding lease agreements can directly impact your success. Our upcoming workshop\, Real Property &amp\; Lease Considerations for Small Businesses\, will dive into everything you need to know about selecting the best property for your business and negotiating favorable lease terms. What You&rsquo\;ll Learn: - Key factors to consider when selecting a commercial property. - How to evaluate lease agreements\, including rent\, maintenance\, and term options. - The pros and cons of leasing vs. buying real estate for your business. - Legal considerations and tips to protect your business interests. This workshop is designed to provide small business owners with practical insights to make informed real estate decisions and set the foundation for long-term success. Don&rsquo\;t miss this opportunity to gain valuable knowledge and expert advice!
LOCATION:America's SBDC at Texas Tech 749 Gateway St.\, Ste. 301 Abilene\, TX 79602
UID:e.3433.5385
SEQUENCE:3
DTSTAMP:20260421T103209Z
URL:https://business.growabilene.com/events/details/real-property-lease-considerations-for-small-businesses-5385
END:VEVENT

END:VCALENDAR
