BEGIN:VCALENDAR
VERSION:2.0
PRODID:-//ChamberMaster//Event Calendar 2.0//EN
METHOD:PUBLISH
X-PUBLISHED-TTL:P3D
REFRESH-INTERVAL:P3D
CALSCALE:GREGORIAN
BEGIN:VEVENT
DTSTART:20231214T180000Z
DTEND:20231214T190000Z
X-MICROSOFT-CDO-ALLDAYEVENT:FALSE
SUMMARY:Quarterly Legislative Update
DESCRIPTION:Join us for our quarterly tax legislative update covering recent developments in proposed and enacted tax legislation. Staying up to date on areas affecting your situation is important and can allow you to better plan for changes that may be coming. Our National Tax Office team will update you on the latest from Capitol Hill with a focus on how changes may affect you and your organization. Learning Objectives: Discuss the tax legislative landscape. Theorize pending regulations and IRS guidance. Demonstrate how these changes could impact businesses and individuals. Identify possible action steps and planning opportunities.
X-ALT-DESC;FMTTYPE=text/html:Join us for our quarterly tax legislative update covering recent developments in proposed and enacted tax legislation. Staying up to date on areas affecting your situation is important and can allow you to better plan for changes that may be coming. Our National Tax Office team will update you on the latest from Capitol Hill with a focus on how changes may affect you and your organization. Learning Objectives: Discuss the tax legislative landscape. Theorize pending regulations and IRS guidance. Demonstrate how these changes could impact businesses and individuals. Identify possible action steps and planning opportunities.
LOCATION:Online webinar
UID:e.3433.5152
SEQUENCE:3
DTSTAMP:20260421T181037Z
URL:https://business.growabilene.com/events/details/quarterly-legislative-update-12-14-2023-5152
END:VEVENT

END:VCALENDAR
