BEGIN:VCALENDAR
VERSION:2.0
PRODID:-//ChamberMaster//Event Calendar 2.0//EN
METHOD:PUBLISH
X-PUBLISHED-TTL:P3D
REFRESH-INTERVAL:P3D
CALSCALE:GREGORIAN
BEGIN:VEVENT
DTSTART:20240619T170000Z
DTEND:20240619T180000Z
X-MICROSOFT-CDO-ALLDAYEVENT:FALSE
SUMMARY:Quarterly Legislative Update
DESCRIPTION:Event Overview Join our quarterly tax legislative update\, where we cover recent developments in proposed and enacted tax legislation. Staying up to date on areas affecting your situation can allow you to better plan for changes that may arise. Our National Tax Office team will update you on the latest from Capitol Hill\, with a focus on how changes may affect you and your organization. During this webinar\, we'll discuss the debt limit\, prospective Republican legislation\, and more.
X-ALT-DESC;FMTTYPE=text/html:Event Overview Join our quarterly tax legislative update\, where we cover recent developments in proposed and enacted tax legislation. Staying up to date on areas affecting your situation can allow you to better plan for changes that may arise. Our National Tax Office team will update you on the latest from Capitol Hill\, with a focus on how changes may affect you and your organization. During this webinar\, we&rsquo\;ll discuss the debt limit\, prospective Republican legislation\, and more.
LOCATION:Online webinar
UID:e.3433.5304
SEQUENCE:3
DTSTAMP:20260421T074038Z
URL:https://business.growabilene.com/events/details/quarterly-legislative-update-06-19-2024-5304
END:VEVENT

END:VCALENDAR
