BEGIN:VCALENDAR
VERSION:2.0
PRODID:-//ChamberMaster//Event Calendar 2.0//EN
METHOD:PUBLISH
X-PUBLISHED-TTL:P3D
REFRESH-INTERVAL:P3D
CALSCALE:GREGORIAN
BEGIN:VEVENT
DTSTART:20240423T163000Z
DTEND:20240423T180000Z
X-MICROSOFT-CDO-ALLDAYEVENT:FALSE
SUMMARY:Quarterly Ag Luncheon 04.23.24
DESCRIPTION:This networking luncheon is a great opportunity for you to connect with other business owners and community leaders and receive more information on how to become more involved in the community. Bring a friend or two and see what all the excitement is about with the Ag Luncheons.
X-ALT-DESC;FMTTYPE=text/html:<span style="color: rgb(51\, 51\, 51)\; font-family: sans-serif\, Arial\, Verdana\, &quot\;Trebuchet MS&quot\;\; font-size: 13px\; background-color: rgb(255\, 255\, 255)\;">This networking luncheon is a great opportunity for you to connect with other business owners and community leaders and receive more information on how to become more involved in the community. Bring a friend or two and see what all the excitement is about with the Ag Luncheons.</span>
LOCATION:Sharon's Barbeque SOUTH 2050 Antilley Road Abilene\, TX 79606
UID:e.3433.5201
SEQUENCE:3
DTSTAMP:20260421T110648Z
URL:https://business.growabilene.com/events/details/quarterly-ag-luncheon-04-23-24-5201
END:VEVENT

END:VCALENDAR
