BEGIN:VCALENDAR
VERSION:2.0
PRODID:-//ChamberMaster//Event Calendar 2.0//EN
METHOD:PUBLISH
X-PUBLISHED-TTL:P3D
REFRESH-INTERVAL:P3D
CALSCALE:GREGORIAN
BEGIN:VEVENT
DTSTART:20240925T190000Z
DTEND:20240925T200000Z
X-MICROSOFT-CDO-ALLDAYEVENT:FALSE
SUMMARY:Oulook Online Training Webinar
DESCRIPTION:Outlook is more than just an email app. It is a Microsoft app that can be used for calendars\, contacts\, office integration\, and added security. Join us for this training and learn how to utilize this application to maximize efficiency in your business.
X-ALT-DESC;FMTTYPE=text/html:Outlook is more than just an email app. It is a Microsoft app that can be used for calendars\, contacts\, office integration\, and added security. Join us for this training and learn how to utilize this application to maximize efficiency in your business.
LOCATION:Online
UID:e.3433.5374
SEQUENCE:3
DTSTAMP:20260421T101940Z
URL:https://business.growabilene.com/events/details/oulook-online-training-webinar-5374
END:VEVENT

END:VCALENDAR
