BEGIN:VCALENDAR
VERSION:2.0
PRODID:-//ChamberMaster//Event Calendar 2.0//EN
METHOD:PUBLISH
X-PUBLISHED-TTL:P3D
REFRESH-INTERVAL:P3D
CALSCALE:GREGORIAN
BEGIN:VEVENT
DTSTART:20211105T160000Z
DTEND:20211105T170000Z
X-MICROSOFT-CDO-ALLDAYEVENT:FALSE
SUMMARY:New Chamber Member Ribbon Cutting - Vista Flags Corp
DESCRIPTION:Join us as we celebrate one of the Chamber's newest members - Vista Flags Corp!
X-ALT-DESC;FMTTYPE=text/html:<span style="color: rgb(51\, 51\, 51)\; font-family: sans-serif\, Arial\, Verdana\, &quot\;Trebuchet MS&quot\;\; font-size: 13px\; background-color: rgb(255\, 255\, 255)\;">Join us as we celebrate one of the Chamber&#39\;s newest members - Vista Flags Corp!&nbsp\;</span>
LOCATION:4834 Derrick Drive Abilene\, Texas 79601
UID:e.3433.4498
SEQUENCE:3
DTSTAMP:20260423T204844Z
URL:https://business.growabilene.com/events/details/new-chamber-member-ribbon-cutting-vista-flags-corp-4498
END:VEVENT

END:VCALENDAR
