BEGIN:VCALENDAR
VERSION:2.0
PRODID:-//ChamberMaster//Event Calendar 2.0//EN
METHOD:PUBLISH
X-PUBLISHED-TTL:P3D
REFRESH-INTERVAL:P3D
CALSCALE:GREGORIAN
BEGIN:VEVENT
DTSTART:20240412T210000Z
DTEND:20240412T220000Z
X-MICROSOFT-CDO-ALLDAYEVENT:FALSE
SUMMARY:New Chamber Member and 77th Anniversary - Play Faire Park
DESCRIPTION:Come and join us as we celebrate with the team from Play Faire Park their 77th Anniversary and them being a new Chamber member!!!
X-ALT-DESC;FMTTYPE=text/html:Come and join us as we celebrate with the team from Play Faire Park their 77th Anniversary and them being a new Chamber member!!!
LOCATION:2300 N 2nd Street Abilene\, TX 79603
UID:e.3433.5280
SEQUENCE:3
DTSTAMP:20260421T104305Z
URL:https://business.growabilene.com/events/details/new-chamber-member-and-77th-anniversary-play-faire-park-5280
END:VEVENT

END:VCALENDAR
