BEGIN:VCALENDAR
VERSION:2.0
PRODID:-//ChamberMaster//Event Calendar 2.0//EN
METHOD:PUBLISH
X-PUBLISHED-TTL:P3D
REFRESH-INTERVAL:P3D
CALSCALE:GREGORIAN
BEGIN:VEVENT
DTSTART:20240320T133000Z
DTEND:20240320T143000Z
X-MICROSOFT-CDO-ALLDAYEVENT:FALSE
SUMMARY:National 8th Annual SBDC Day
DESCRIPTION:Come celebrate with the America's SBDC the National 8th Annual SBDC Day!
X-ALT-DESC;FMTTYPE=text/html:Come celebrate with the America&#39\;s SBDC the National 8th Annual SBDC Day!
LOCATION:749 Gateway St.\, Ste. 301\, Bldg. C Abilene\, Texas 79602
UID:e.3433.5253
SEQUENCE:3
DTSTAMP:20260421T130005Z
URL:https://business.growabilene.com/events/details/national-8th-annual-sbdc-day-5253
END:VEVENT

END:VCALENDAR
