BEGIN:VCALENDAR
VERSION:2.0
PRODID:-//ChamberMaster//Event Calendar 2.0//EN
METHOD:PUBLISH
X-PUBLISHED-TTL:P3D
REFRESH-INTERVAL:P3D
CALSCALE:GREGORIAN
BEGIN:VEVENT
DTSTART:20231212T233000Z
DTEND:20231213T003000Z
X-MICROSOFT-CDO-ALLDAYEVENT:FALSE
SUMMARY:Money Smart Series - Record Keeping for Your Small Business and End of Year Close Out
DESCRIPTION:Join us to learn more about record keeping for your small business and what you should be doing for your end of year close out preparation. This workshop is part of the SBA's Money Smart Series of workshops.
X-ALT-DESC;FMTTYPE=text/html:Join us to learn more about record keeping for your small business and what you should be doing for your end of year close out preparation. This workshop is part of the SBA&#39\;s Money Smart Series of workshops.
LOCATION:America's SBDC @ TX Tech 749 Gateway St.\, Ste. 301 Abilene\, TX 79602
UID:e.3433.5162
SEQUENCE:3
DTSTAMP:20260421T181506Z
URL:https://business.growabilene.com/events/details/money-smart-series-record-keeping-for-your-small-business-and-end-of-year-close-out-5162
END:VEVENT

END:VCALENDAR
