BEGIN:VCALENDAR
VERSION:2.0
PRODID:-//ChamberMaster//Event Calendar 2.0//EN
METHOD:PUBLISH
X-PUBLISHED-TTL:P3D
REFRESH-INTERVAL:P3D
CALSCALE:GREGORIAN
BEGIN:VEVENT
DTSTART:20220928T190000Z
DTEND:20220928T200000Z
X-MICROSOFT-CDO-ALLDAYEVENT:FALSE
SUMMARY:Microsoft OneDrive | Virtual Training
DESCRIPTION:In this 90-minute session\, we will broaden your understanding of how to best leverage OneDrive file sharing and collaboration capabilities within the Microsoft 365 ecosystem. We will demonstrate how to work with your synced files directly in File Explorer\, share files and collaborate with users both inside and outside of your organization. Register here: https://attendee.gotowebinar.com/register/5379538084318736652
X-ALT-DESC;FMTTYPE=text/html:In this 90-minute session\, we will broaden your understanding of how to best leverage OneDrive file sharing and collaboration capabilities within the Microsoft 365 ecosystem. We will demonstrate how to work with your synced files directly in File Explorer\, share files and collaborate with users both inside and outside of your organization. Register here: https://attendee.gotowebinar.com/register/5379538084318736652
LOCATION:https://attendee.gotowebinar.com/register/5379538084318736652
UID:e.3433.4798
SEQUENCE:3
DTSTAMP:20260423T025922Z
URL:https://business.growabilene.com/events/details/microsoft-onedrive-virtual-training-4798
END:VEVENT

END:VCALENDAR
