BEGIN:VCALENDAR
VERSION:2.0
PRODID:-//ChamberMaster//Event Calendar 2.0//EN
METHOD:PUBLISH
X-PUBLISHED-TTL:P3D
REFRESH-INTERVAL:P3D
CALSCALE:GREGORIAN
BEGIN:VEVENT
DTSTART:20240627T223000Z
DTEND:20240627T233000Z
X-MICROSOFT-CDO-ALLDAYEVENT:FALSE
SUMMARY:Managing Cash Flow\, the Secret to Business Success
DESCRIPTION:This workshop will provide an overview of Managing Cash Flow - encouraging participants to focus on cash flow management as an essential competency of business ownership.
X-ALT-DESC;FMTTYPE=text/html:This workshop will provide an overview of Managing Cash Flow - encouraging participants to focus on cash flow management as an essential competency of business ownership.
LOCATION:749 Gateway St.\, Ste. 301 Abilene 79602
UID:e.3433.5331
SEQUENCE:3
DTSTAMP:20260421T074608Z
URL:https://business.growabilene.com/events/details/managing-cash-flow-the-secret-to-business-success-5331
END:VEVENT

END:VCALENDAR
