BEGIN:VCALENDAR
VERSION:2.0
PRODID:-//ChamberMaster//Event Calendar 2.0//EN
METHOD:PUBLISH
X-PUBLISHED-TTL:P3D
REFRESH-INTERVAL:P3D
CALSCALE:GREGORIAN
BEGIN:VEVENT
DTSTART:20240627T223000Z
DTEND:20240628T020000Z
X-MICROSOFT-CDO-ALLDAYEVENT:FALSE
SUMMARY:Make Your Mark Gala
DESCRIPTION:Big Brothers Big Sisters Abilene invites you to the Third Annual Make Your Mark Gala on Thursday\, June 27\, 2024 at the Abilene Convention Center. The event will honor the life and legacy of Mark Rogers by recognizing award recipients who are making their mark in the community through our mission. Join us for drinks\, dinner\, silent auction\, awards and live entertainment by The Spazmatics.
X-ALT-DESC;FMTTYPE=text/html:Big Brothers Big Sisters Abilene invites you to the Third Annual Make Your Mark Gala on Thursday\, June 27\, 2024 at the Abilene Convention Center. The event will honor the life and legacy of Mark Rogers by recognizing award recipients who are making their mark in the community through our mission. Join us for drinks\, dinner\, silent auction\, awards and live entertainment by The Spazmatics.
LOCATION:Abilene Convention Center
UID:e.3433.5311
SEQUENCE:3
DTSTAMP:20260421T073919Z
URL:https://business.growabilene.com/events/details/make-your-mark-gala-06-27-2024-5311
END:VEVENT

END:VCALENDAR
