BEGIN:VCALENDAR
VERSION:2.0
PRODID:-//ChamberMaster//Event Calendar 2.0//EN
METHOD:PUBLISH
X-PUBLISHED-TTL:P3D
REFRESH-INTERVAL:P3D
CALSCALE:GREGORIAN
BEGIN:VEVENT
DTSTART:20240726T170000Z
DTEND:20240726T180000Z
X-MICROSOFT-CDO-ALLDAYEVENT:FALSE
SUMMARY:Leveraging Data Strategies for Leaders in the AI Era
DESCRIPTION:Establishing a strong data strategy is vital for success in the age of artificial intelligence (AI). To make the most of the opportunities presented by AI\, your organization must control your data chaos and establish a robust data foundation and technology backbone. Join our webinar to discover how to become a true data-driven leader. We will outline the steps to define an effective data strategy\, identify your key data sources\, and provide tips for using your data effectively to drive results and benefit from AI's potential. We'll also share how data-driven organizations outperform their competition with better decision-making\, improved reporting and collaboration\, and increased agility and resilience. Learning Objectives Explore how data chaos impacts finance\, operations\, and performance. Determine the elements of an effective data strategy and how to prepare your data for AI. Identify the steps to centralize and build a scalable\, well-structured data foundation. Discuss real-world AI use cases and the required data inputs for success.
X-ALT-DESC;FMTTYPE=text/html:Establishing a strong data strategy is vital for success in the age of artificial intelligence (AI). To make the most of the opportunities presented by AI\, your organization must control your data chaos and establish a robust data foundation and technology backbone. Join our webinar to discover how to become a true data-driven leader. We will outline the steps to define an effective data strategy\, identify your key data sources\, and provide tips for using your data effectively to drive results and benefit from AI&#39\;s potential. We&#39\;ll also share how data-driven organizations outperform their competition with better decision-making\, improved reporting and collaboration\, and increased agility and resilience. Learning Objectives Explore how data chaos impacts finance\, operations\, and performance. Determine the elements of an effective data strategy and how to prepare your data for AI. Identify the steps to centralize and build a scalable\, well-structured data foundation. Discuss real-world AI use cases and the required data inputs for success.
LOCATION:Online (Webinar)
UID:e.3433.5339
SEQUENCE:3
DTSTAMP:20260421T041223Z
URL:https://business.growabilene.com/events/details/leveraging-data-strategies-for-leaders-in-the-ai-era-5339
END:VEVENT

END:VCALENDAR
