BEGIN:VCALENDAR
VERSION:2.0
PRODID:-//ChamberMaster//Event Calendar 2.0//EN
METHOD:PUBLISH
X-PUBLISHED-TTL:P3D
REFRESH-INTERVAL:P3D
CALSCALE:GREGORIAN
BEGIN:VEVENT
DTSTART:20221116T003000Z
DTEND:20221116T030000Z
X-MICROSOFT-CDO-ALLDAYEVENT:FALSE
SUMMARY:Junior Achievement of Abilene Hall of Fame
DESCRIPTION:
X-ALT-DESC;FMTTYPE=text/html:
LOCATION:Station 1 140 Mulberry St. Abilene\, Tx
UID:e.3433.4803
SEQUENCE:3
DTSTAMP:20260422T233518Z
URL:https://business.growabilene.com/events/details/junior-achievement-of-abilene-hall-of-fame-4803
END:VEVENT

END:VCALENDAR
