BEGIN:VCALENDAR
VERSION:2.0
PRODID:-//ChamberMaster//Event Calendar 2.0//EN
METHOD:PUBLISH
X-PUBLISHED-TTL:P3D
REFRESH-INTERVAL:P3D
CALSCALE:GREGORIAN
BEGIN:VEVENT
DTSTART:20230419T130000Z
DTEND:20230419T220000Z
X-MICROSOFT-CDO-ALLDAYEVENT:FALSE
SUMMARY:Junior Achievement of Abilene Golf Classic
DESCRIPTION:Junior Achievement of Abilene Annual Golf Classic - Fundraiser\, 2 Flights over 40 teams! Get signed up soon. 4 person Scramble
X-ALT-DESC;FMTTYPE=text/html:Junior Achievement of Abilene Annual Golf Classic - Fundraiser\, 2 Flights over 40 teams! Get signed up soon. 4 person Scramble
LOCATION:Abilene Country Club South (Fairway Oaks)
UID:e.3433.4925
SEQUENCE:3
DTSTAMP:20260422T155814Z
URL:https://business.growabilene.com/events/details/junior-achievement-of-abilene-golf-classic-04-19-2023-4925
END:VEVENT

END:VCALENDAR
