BEGIN:VCALENDAR
VERSION:2.0
PRODID:-//ChamberMaster//Event Calendar 2.0//EN
METHOD:PUBLISH
X-PUBLISHED-TTL:P3D
REFRESH-INTERVAL:P3D
CALSCALE:GREGORIAN
BEGIN:VEVENT
DTSTART:20240411T000000Z
DTEND:20240411T020000Z
X-MICROSOFT-CDO-ALLDAYEVENT:FALSE
SUMMARY:Jimmy Fortune in Concert
DESCRIPTION:Country & Gospel artist\, Jimmy Fortune\, will be in concert at The Historic Paramount Theater.
X-ALT-DESC;FMTTYPE=text/html:Country &amp\; Gospel artist\, Jimmy Fortune\, will be in concert at The Historic Paramount Theater.
LOCATION:The Historic Paramount Theatre
UID:e.3433.5260
SEQUENCE:3
DTSTAMP:20260421T105624Z
URL:https://business.growabilene.com/events/details/jimmy-fortune-in-concert-5260
END:VEVENT

END:VCALENDAR
