BEGIN:VCALENDAR
VERSION:2.0
PRODID:-//ChamberMaster//Event Calendar 2.0//EN
METHOD:PUBLISH
X-PUBLISHED-TTL:P3D
REFRESH-INTERVAL:P3D
CALSCALE:GREGORIAN
BEGIN:VEVENT
DTSTART:20231121T000000Z
DTEND:20231121T020000Z
X-MICROSOFT-CDO-ALLDAYEVENT:FALSE
SUMMARY:Business Navigator: Introduction to the Family Medical Leave Act - Understanding FMLA: Recording and Compliance
DESCRIPTION:Understanding FMLA is essential for employers to maintain compliance and avoid lawsuits regarding extensive time off requests. Students will learn about the primary purpose of FMLA\, who is eligible for FMLA\, how to recognize the need for FMLA\, and implementation of strategy for compliance. This class will emphasize the need for compliance and give you knowledge of your obligation under the FMLA guidelines.
X-ALT-DESC;FMTTYPE=text/html:Understanding FMLA is essential for employers to maintain compliance and avoid lawsuits regarding extensive time off requests. Students will learn about the primary purpose of FMLA\, who is eligible for FMLA\, how to recognize the need for FMLA\, and implementation of strategy for compliance. This class will emphasize the need for compliance and give you knowledge of your obligation under the FMLA guidelines.
LOCATION:Online - Zoom
UID:e.3433.5140
SEQUENCE:3
DTSTAMP:20260421T214014Z
URL:https://business.growabilene.com/events/details/introduction-to-the-family-medical-leave-act-understanding-fmla-recording-and-compliance-5140
END:VEVENT

END:VCALENDAR
