BEGIN:VCALENDAR
VERSION:2.0
PRODID:-//ChamberMaster//Event Calendar 2.0//EN
METHOD:PUBLISH
X-PUBLISHED-TTL:P3D
REFRESH-INTERVAL:P3D
CALSCALE:GREGORIAN
BEGIN:VEVENT
DTSTART:20231113T180000Z
DTEND:20231113T190000Z
X-MICROSOFT-CDO-ALLDAYEVENT:FALSE
SUMMARY:Increase Cash Flow – Benefit from Available Credits & Incentives in the Built Environment
DESCRIPTION:The Inflation Reduction Act of 2022 provides significant incentives for renewable energy technology and domestic investments. Energy efficiency incentives including 179D and 45L were expanded and extended\, and you might qualify. During this session we will share how these incentives may impact your investment in clean\, renewable energy technology and how fixed asset planning provides organizations a way to identify deductions and tax credits that maximize cash flow and reduce income tax liability. We'll also explore how building and building improvement assets that are associated with a building purchase\, new construction\, or renovation may provide opportunities for savings. Learning Objectives Discuss new energy incentives and revitalized energy incentives funded by the Inflation Reduction Act. Identify opportunities to monetize credits and summarize 179D and 45L qualifications and benefits. Explore new opportunities for tax exempt and government entities.
X-ALT-DESC;FMTTYPE=text/html:The Inflation Reduction Act of 2022 provides significant incentives for renewable energy technology and domestic investments. Energy efficiency incentives including 179D and 45L were expanded and extended\, and you might qualify. During this session we will share how these incentives may impact your investment in clean\, renewable energy technology and how fixed asset planning provides organizations a way to identify deductions and tax credits that maximize cash flow and reduce income tax liability. We&rsquo\;ll also explore how building and building improvement assets that are associated with a building purchase\, new construction\, or renovation may provide opportunities for savings. Learning Objectives Discuss new energy incentives and revitalized energy incentives funded by the Inflation Reduction Act. Identify opportunities to monetize credits and summarize 179D and 45L qualifications and benefits. Explore new opportunities for tax exempt and government entities.
LOCATION:Online webinar
UID:e.3433.5113
SEQUENCE:3
DTSTAMP:20260421T194531Z
URL:https://business.growabilene.com/events/details/increase-cash-flow-benefit-from-available-credits-incentives-in-the-built-environment-5113
END:VEVENT

END:VCALENDAR
