BEGIN:VCALENDAR
VERSION:2.0
PRODID:-//ChamberMaster//Event Calendar 2.0//EN
METHOD:PUBLISH
X-PUBLISHED-TTL:P3D
REFRESH-INTERVAL:P3D
CALSCALE:GREGORIAN
BEGIN:VEVENT
DTSTART:20240402T223000Z
DTEND:20240402T233000Z
X-MICROSOFT-CDO-ALLDAYEVENT:FALSE
SUMMARY:How to Write a Business Plan
DESCRIPTION:Your business plan is the foundation of your business. Learn how to write a business plan quickly and efficiently. A good business plan guides you through each stage of starting and managing your business. You'll use your business plan as a roadmap for how to structure\, run\, and grow your new business. It's a way to think through the key elements of your business
X-ALT-DESC;FMTTYPE=text/html:Your business plan is the foundation of your business. Learn how to write a business plan quickly and efficiently. A good business plan guides you through each stage of starting and managing your business. You&rsquo\;ll use your business plan as a roadmap for how to structure\, run\, and grow your new business. It&rsquo\;s a way to think through the key elements of your business
LOCATION:Abilene SBDC 749 Gateway St.\, Ste. 301\, Bldg. C Abilene\, TX 79602
UID:e.3433.5270
SEQUENCE:3
DTSTAMP:20260421T105812Z
URL:https://business.growabilene.com/events/details/how-to-write-a-business-plan-04-02-2024-5270
END:VEVENT

END:VCALENDAR
