BEGIN:VCALENDAR
VERSION:2.0
PRODID:-//ChamberMaster//Event Calendar 2.0//EN
METHOD:PUBLISH
X-PUBLISHED-TTL:P3D
REFRESH-INTERVAL:P3D
CALSCALE:GREGORIAN
BEGIN:VEVENT
DTSTART:20231216T150000Z
DTEND:20231216T170000Z
X-MICROSOFT-CDO-ALLDAYEVENT:FALSE
SUMMARY:Hiking With Homeless Dogs
DESCRIPTION:Join us at the Abilene State Park on Saturday\, Dec. 16 from 9:00am - 11:00am and take one of our amazing dogs on a hike! Maybe you will find a new family member on this adventure too! Texas Parks and Wildlife and All Kind Animal Initiative are excited for this upcoming hike and adoption event. We will have several available dogs ready to hike down Elm Creek Trail and around Buffalo Wallow. Location: North Elm Creek Trail Head Bring: good hiking shoes\, water bottle\, and a loving heart To see what dogs are currently available\, please click the following link: https://www.allkindabilene.org/available-dogs
X-ALT-DESC;FMTTYPE=text/html:Join us at the Abilene State Park on Saturday\, Dec. 16 from 9:00am - 11:00am and take one of our amazing dogs on a hike! Maybe you will find a new family member on this adventure too! Texas Parks and Wildlife and All Kind Animal Initiative are excited for this upcoming hike and adoption event. We will have several available dogs ready to hike down Elm Creek Trail and around Buffalo Wallow. Location: North Elm Creek Trail Head Bring: good hiking shoes\, water bottle\, and a loving heart To see what dogs are currently available\, please click the following link: https://www.allkindabilene.org/available-dogs
LOCATION:Abilene State Park
UID:e.3433.5107
SEQUENCE:3
DTSTAMP:20260421T181241Z
URL:https://business.growabilene.com/events/details/hiking-with-homeless-dogs-12-16-2023-5107
END:VEVENT

END:VCALENDAR
