BEGIN:VCALENDAR
VERSION:2.0
PRODID:-//ChamberMaster//Event Calendar 2.0//EN
METHOD:PUBLISH
X-PUBLISHED-TTL:P3D
REFRESH-INTERVAL:P3D
CALSCALE:GREGORIAN
BEGIN:VEVENT
DTSTART:20230429T180000Z
DTEND:20230429T200000Z
X-MICROSOFT-CDO-ALLDAYEVENT:FALSE
SUMMARY:Healthy Kids Day
DESCRIPTION:Healthy Kids Day is a fun\, free community-wide event to kick off summer an remind us all how important it is for kids to stay active physically and mentally throughout the summer. Healthy Kids Day is the Y's national initiative to improve health and well-being for kids and families. The Y hopes to use the day to get more kids moving and learning\, creating healthy habits they can continue while they're away from the classroom.
X-ALT-DESC;FMTTYPE=text/html:Healthy Kids Day is a fun\, free community-wide event to kick off summer an remind us all how important it is for kids to stay active physically and mentally throughout the summer. Healthy Kids Day is the Y&#39\;s national initiative to improve health and well-being for kids and families. The Y hopes to use the day to get more kids moving and learning\, creating healthy habits they can continue while they&#39\;re away from the classroom.
LOCATION:YMCA of Abilene Redbud Park 3125 S. 32nd St.
UID:e.3433.4871
SEQUENCE:3
DTSTAMP:20260422T155644Z
URL:https://business.growabilene.com/events/details/healthy-kids-day-04-29-2023-4871
END:VEVENT

END:VCALENDAR
