BEGIN:VCALENDAR
VERSION:2.0
PRODID:-//ChamberMaster//Event Calendar 2.0//EN
METHOD:PUBLISH
X-PUBLISHED-TTL:P3D
REFRESH-INTERVAL:P3D
CALSCALE:GREGORIAN
BEGIN:VEVENT
DTSTART:20240131T170000Z
DTEND:20240131T180000Z
X-MICROSOFT-CDO-ALLDAYEVENT:FALSE
SUMMARY:Grow with Google Webinar: Make Your Small Business More Accessible
DESCRIPTION:When businesses build digital communications that allow people with disabilities to perceive\, understand\, navigate\, and interact with products and services\, it expands their market. Implementing accessibility best practices can help businesses grow\, and improve the experience for all users. In this session we'll show you how to:   What does accessibility mean\, online?   How to design for accessibility: web pages\, email\, and tips for physical spaces   Tips for being more inclusive
X-ALT-DESC;FMTTYPE=text/html:When businesses build digital communications that allow people with disabilities to perceive\, understand\, navigate\, and interact with products and services\, it expands their market. Implementing accessibility best practices can help businesses grow\, and improve the experience for all users. In this session we&rsquo\;ll show you how to: &bull\; What does accessibility mean\, online? &bull\; How to design for accessibility: web pages\, email\, and tips for physical spaces &bull\; Tips for being more inclusive
LOCATION:749 Gateway St.\, Ste. 301\, Blg. C Abilene\, TX 79602
UID:e.3433.5179
SEQUENCE:3
DTSTAMP:20260421T181119Z
URL:https://business.growabilene.com/events/details/grow-with-google-webinar-make-your-small-business-more-accessible-5179
END:VEVENT

END:VCALENDAR
