BEGIN:VCALENDAR
VERSION:2.0
PRODID:-//ChamberMaster//Event Calendar 2.0//EN
METHOD:PUBLISH
X-PUBLISHED-TTL:P3D
REFRESH-INTERVAL:P3D
CALSCALE:GREGORIAN
BEGIN:VEVENT
DTSTART:20231213T170000Z
DTEND:20231213T180000Z
X-MICROSOFT-CDO-ALLDAYEVENT:FALSE
SUMMARY:Grow with Google Webinar - Learn About Investors and Loan Options for Your Small Business - Part 1
DESCRIPTION:When your small business needs funding\, it's important to understand what options might be available to you. In Part 1 of this two-part workshop you will learn how to find potential funding options and how to use Micro Loans to fund big goals. In Part 2 of this two-part workshop you will learn how to develop a fundraising strategy before meeting with investors and how to share your story with investors.
X-ALT-DESC;FMTTYPE=text/html:When your small business needs funding\, it&rsquo\;s important to understand what options might be available to you. In Part 1 of this two-part workshop you will learn how to find potential funding options and how to use Micro Loans to fund big goals. In Part 2 of this two-part workshop you will learn how to develop a fundraising strategy before meeting with investors and how to share your story with investors.
LOCATION:America's SBDC @ TX Tech 749 Gateway St.\, Ste. 301 Abilene\, TX 79602
UID:e.3433.5163
SEQUENCE:3
DTSTAMP:20260421T181428Z
URL:https://business.growabilene.com/events/details/grow-with-google-webinar-learn-about-investors-and-loan-options-for-your-small-business-part-1-5163
END:VEVENT

END:VCALENDAR
