BEGIN:VCALENDAR
VERSION:2.0
PRODID:-//ChamberMaster//Event Calendar 2.0//EN
METHOD:PUBLISH
X-PUBLISHED-TTL:P3D
REFRESH-INTERVAL:P3D
CALSCALE:GREGORIAN
BEGIN:VEVENT
DTSTART:20240430T160000Z
DTEND:20240430T170000Z
X-MICROSOFT-CDO-ALLDAYEVENT:FALSE
SUMMARY:Grow with Google: Use YouTube to Grow Your Business
DESCRIPTION:Learn how to use YouTube and the power of video to promote your business or brand. In this workshop we'll cover:   How to create a YouTube channel   Adding videos and organize your channel   How to promote your business with video ads
X-ALT-DESC;FMTTYPE=text/html:Learn how to use YouTube and the power of video to promote your business or brand. In this workshop we&rsquo\;ll cover: &bull\; How to create a YouTube channel &bull\; Adding videos and organize your channel &bull\; How to promote your business with video ads
LOCATION:Zoom Meeting
UID:e.3433.5273
SEQUENCE:3
DTSTAMP:20260421T104123Z
URL:https://business.growabilene.com/events/details/grow-with-google-use-youtube-to-grow-your-business-5273
END:VEVENT

END:VCALENDAR
