BEGIN:VCALENDAR
VERSION:2.0
PRODID:-//ChamberMaster//Event Calendar 2.0//EN
METHOD:PUBLISH
X-PUBLISHED-TTL:P3D
REFRESH-INTERVAL:P3D
CALSCALE:GREGORIAN
BEGIN:VEVENT
DTSTART:20241114T170000Z
DTEND:20241114T180000Z
X-MICROSOFT-CDO-ALLDAYEVENT:FALSE
SUMMARY:Grow with Google: Reach Customers Online with Google
DESCRIPTION:Learn how your business can be found online with Google. This workshop explains how Google Search works and how you can improve a website's visibility with Search Engine Optimization (SEO). The session also introduces products like Google Business Profile\, Google Trends\, Search Console\, Google Ads\, and more. In this workshop we'll discuss best practices for:   Improving your website's visibility in Google's organic search results\, on all devices   Creating a free Google Business Profile   Advertising your business on Google
X-ALT-DESC;FMTTYPE=text/html:Learn how your business can be found online with Google. This workshop explains how Google Search works and how you can improve a website&#39\;s visibility with Search Engine Optimization (SEO). The session also introduces products like Google Business Profile\, Google Trends\, Search Console\, Google Ads\, and more. In this workshop we&rsquo\;ll discuss best practices for: &bull\; Improving your website&rsquo\;s visibility in Google&rsquo\;s organic search results\, on all devices &bull\; Creating a free Google Business Profile &bull\; Advertising your business on Google
LOCATION:ONLINE WEBINAR
UID:e.3433.5469
SEQUENCE:3
DTSTAMP:20260421T144319Z
URL:https://business.growabilene.com/events/details/grow-with-google-reach-customers-online-with-google-5469
END:VEVENT

END:VCALENDAR
