BEGIN:VCALENDAR
VERSION:2.0
PRODID:-//ChamberMaster//Event Calendar 2.0//EN
METHOD:PUBLISH
X-PUBLISHED-TTL:P3D
REFRESH-INTERVAL:P3D
CALSCALE:GREGORIAN
BEGIN:VEVENT
DTSTART:20240611T160000Z
DTEND:20240611T170000Z
X-MICROSOFT-CDO-ALLDAYEVENT:FALSE
SUMMARY:Grow with Google: Launch Your Business with Customer Focused Marketing
DESCRIPTION:As a new entrepreneur\, you'll need more than good products or services to grow your business. It's also important to have strong customer-focused marketing strategies to reach your audience and turn them into loyal customers. In this workshop\, you will learn how to: Create a compelling brand Define your audience Convert customers Build loyalty and advocacy
X-ALT-DESC;FMTTYPE=text/html:As a new entrepreneur\, you&rsquo\;ll need more than good products or services to grow your business. It&rsquo\;s also important to have strong customer-focused marketing strategies to reach your audience and turn them into loyal customers. In this workshop\, you will learn how to: Create a compelling brand Define your audience Convert customers Build loyalty and advocacy
LOCATION:ONLINE
UID:e.3433.5317
SEQUENCE:3
DTSTAMP:20260421T074547Z
URL:https://business.growabilene.com/events/details/grow-with-google-launch-your-business-with-customer-focused-marketing-5317
END:VEVENT

END:VCALENDAR
