BEGIN:VCALENDAR
VERSION:2.0
PRODID:-//ChamberMaster//Event Calendar 2.0//EN
METHOD:PUBLISH
X-PUBLISHED-TTL:P3D
REFRESH-INTERVAL:P3D
CALSCALE:GREGORIAN
BEGIN:VEVENT
DTSTART:20211116T193000Z
DTEND:20211116T200000Z
X-MICROSOFT-CDO-ALLDAYEVENT:FALSE
SUMMARY:Grand Re-Opening - The Salvation Army's Men's Shelter Dorm
DESCRIPTION:Join us as we celebrate the Grand Re-Opening of The Salvation Army's Men's Shelter Dorm!
X-ALT-DESC;FMTTYPE=text/html:Join us as we celebrate the Grand Re-Opening of The Salvation Army&#39\;s Men&#39\;s Shelter Dorm!
LOCATION:1726 Butternut Street Abilene\, Texas 79602
UID:e.3433.4511
SEQUENCE:3
DTSTAMP:20260423T205051Z
URL:https://business.growabilene.com/events/details/grand-re-opening-the-salvation-army-s-men-s-shelter-dorm-4511
END:VEVENT

END:VCALENDAR
