BEGIN:VCALENDAR
VERSION:2.0
PRODID:-//ChamberMaster//Event Calendar 2.0//EN
METHOD:PUBLISH
X-PUBLISHED-TTL:P3D
REFRESH-INTERVAL:P3D
CALSCALE:GREGORIAN
BEGIN:VEVENT
DTSTART:20240627T203000Z
DTEND:20240627T213000Z
X-MICROSOFT-CDO-ALLDAYEVENT:FALSE
SUMMARY:Grand Re-Opening Hilton Garden Inn
DESCRIPTION:We look forward to seeing all the renovations and additions that have been made the Hilton Garden Inn!!!
X-ALT-DESC;FMTTYPE=text/html:We look forward to seeing all the renovations and additions that have been made the Hilton Garden Inn!!!&nbsp\;
LOCATION:4449 Ridgemont Dr Abilene\, TX 79606
UID:e.3433.5325
SEQUENCE:3
DTSTAMP:20260421T074443Z
URL:https://business.growabilene.com/events/details/grand-re-opening-hilton-garden-inn-5325
END:VEVENT

END:VCALENDAR
