BEGIN:VCALENDAR
VERSION:2.0
PRODID:-//ChamberMaster//Event Calendar 2.0//EN
METHOD:PUBLISH
X-PUBLISHED-TTL:P3D
REFRESH-INTERVAL:P3D
CALSCALE:GREGORIAN
BEGIN:VEVENT
DTSTART:20240627T160000Z
DTEND:20240627T170000Z
X-MICROSOFT-CDO-ALLDAYEVENT:FALSE
SUMMARY:Grand Opening Warren CAT
DESCRIPTION:Join us as we celebrate the grand opening of the new Warren CAT facility!!!
X-ALT-DESC;FMTTYPE=text/html:Join us as we celebrate the grand opening of the new Warren CAT facility!!!&nbsp\;
LOCATION:750 Gateway St Abilene\, TX 79602
UID:e.3433.5324
SEQUENCE:3
DTSTAMP:20260421T074123Z
URL:https://business.growabilene.com/events/details/grand-opening-warren-cat-5324
END:VEVENT

END:VCALENDAR
